BEGIN:VCALENDAR
VERSION:2.0
PRODID:TU Chemnitz
METHOD:PUBLISH
X-WR-CALNAME:Veranstaltungen der TU Chemnitz
X-WR-TIMEZONE:Europe/Berlin
BEGIN:VEVENT
CLASS:PUBLIC
DTSTART;TZID="Europe/Berlin":20041027T200000
DTEND;TZID="Europe/Berlin":20041027T235900
LOCATION:Reichenhainer Str. 55\, Chemnitz (Mensa)
SUMMARY:TaC: Sportkneipe Bundesligakonferenz (taC)
DESCRIPTION:Wer keine Karte für die StuRa-Auftaktparty hat oder sich\neben ein kleines bißchen warm trinken möchte....Bundesliga live\nauf Großleinwand....wie immer im TaC
ORGANIZER:MAILTO:made@hrz.tu-chemnitz.de
UID:5374@www.tu-chemnitz.de
CREATED:20041025T083400Z
DTSTAMP:20210802T200536Z
END:VEVENT
END:VCALENDAR
