BEGIN:VCALENDAR
VERSION:2.0
PRODID:TU Chemnitz
METHOD:PUBLISH
X-WR-CALNAME:Veranstaltungen der TU Chemnitz
X-WR-TIMEZONE:Europe/Berlin
BEGIN:VEVENT
CLASS:PUBLIC
DTSTART;TZID="Europe/Berlin":20041022T210000
DTEND;TZID="Europe/Berlin":20041022T235900
LOCATION:Bunker-Club * Chemnitz * Rosenplatz (gleich am Campus)
SUMMARY:STAUBKIND (D) + support (live)
DESCRIPTION:Louis Manke\, der Gitarrist von TERMINAL CHOICE\, hat nun mit STAUBKIND sein eigenes Projekt gestartet ... Gothik-Rock irgendwo zwischen Oooomph und Linkin Park.\nSupport:  JESUS & THE GURUS (CH)
ORGANIZER:MAILTO:schneid@hrz.tu-chemnitz.de
UID:5366@www.tu-chemnitz.de
CREATED:20041021T231200Z
DTSTAMP:20210802T200530Z
END:VEVENT
END:VCALENDAR
