BEGIN:VCALENDAR
VERSION:2.0
PRODID:TU Chemnitz
METHOD:PUBLISH
X-WR-CALNAME:Veranstaltungen der TU Chemnitz
X-WR-TIMEZONE:Europe/Berlin
BEGIN:VEVENT
CLASS:PUBLIC
DTSTART;TZID="Europe/Berlin":20041030T150000
DTEND;TZID="Europe/Berlin":20041030T180000
LOCATION:Reichenhainer Str. 55\, Chemnitz (Mensa)
SUMMARY:TaC: Bundesligakonferenzschaltung (TaC)
DESCRIPTION:...wie immer Samstag....Bundesliga im TaC in \nder Mensa auf Großleinwand
ORGANIZER:MAILTO:made@hrz.tu-chemnitz.de
UID:5341@www.tu-chemnitz.de
CREATED:20041018T091800Z
DTSTAMP:20210802T200528Z
END:VEVENT
END:VCALENDAR
