BEGIN:VCALENDAR
VERSION:2.0
PRODID:TU Chemnitz
METHOD:PUBLISH
X-WR-CALNAME:Veranstaltungen der TU Chemnitz
X-WR-TIMEZONE:Europe/Berlin
BEGIN:VEVENT
CLASS:PUBLIC
DTSTART;TZID="Europe/Berlin":20041018T200500
DTEND;TZID="Europe/Berlin":20041019T000500
LOCATION:PEB-Studentenkeller
SUMMARY:Blue Monday ab 21:00 Uhr (PEB-Studentenkeller)
DESCRIPTION:Blue Monday - DJ Anne versüßt Euch den Wochenstart mit Blues\, Jazz und Soul!\n\nDazu gibts wie bei jeder Montagskneipe gewohnt günstige Getränke!
ORGANIZER:MAILTO:malte.hubrich@s2000.tu-chemnitz.de
UID:5333@www.tu-chemnitz.de
CREATED:20041017T180300Z
DTSTAMP:20210802T200530Z
END:VEVENT
END:VCALENDAR
