BEGIN:VCALENDAR
VERSION:2.0
PRODID:TU Chemnitz
METHOD:PUBLISH
X-WR-CALNAME:Veranstaltungen der TU Chemnitz
X-WR-TIMEZONE:Europe/Berlin
BEGIN:VEVENT
CLASS:PUBLIC
DTSTART;TZID="Europe/Berlin":20041019T200000
DTEND;TZID="Europe/Berlin":20041019T235900
LOCATION:Reichenhainer Str. 55\, Chemnitz (Mensa)
SUMMARY:Champions League im TaC: Turin-Bayern & Leverkusen-AS Rom (taC)
DESCRIPTION:...und Zuschauer-Special gibts: die Fl. Becks für \n1\,00 EUR...damits auch ein Fußballfest wird...smili
ORGANIZER:MAILTO:made@hrz.tu-chemnitz.de
UID:5329@www.tu-chemnitz.de
CREATED:20041015T102400Z
DTSTAMP:20210802T200530Z
END:VEVENT
END:VCALENDAR
