BEGIN:VCALENDAR
VERSION:2.0
PRODID:TU Chemnitz
METHOD:PUBLISH
X-WR-CALNAME:Veranstaltungen der TU Chemnitz
X-WR-TIMEZONE:Europe/Berlin
BEGIN:VEVENT
CLASS:PUBLIC
DTSTART;TZID="Europe/Berlin":20041016T150000
DTEND;TZID="Europe/Berlin":20041016T180000
LOCATION:Reichenhainer Str. 55\, Chemnitz (Mensa)
SUMMARY:TaC-Sportkneipe: Bundesligakonferenzschaltung
DESCRIPTION:wie immer am Samstag....
ORGANIZER:MAILTO:made@hrz.tu-chemnitz.de
UID:5327@www.tu-chemnitz.de
CREATED:20041015T101400Z
DTSTAMP:20210802T200535Z
END:VEVENT
END:VCALENDAR
