BEGIN:VCALENDAR
VERSION:2.0
PRODID:TU Chemnitz
METHOD:PUBLISH
X-WR-CALNAME:Veranstaltungen der TU Chemnitz
X-WR-TIMEZONE:Europe/Berlin
BEGIN:VEVENT
CLASS:PUBLIC
DTSTART;TZID="Europe/Berlin":20041026T170000
DTEND;TZID="Europe/Berlin":20041026T180000
LOCATION:Reichenhainer Str. 90\, Chemnitz (Zentr. Hörsaal- und Seminargebäude)
SUMMARY:MTP Infoabend (MTP e.V.\, Geschäftsstelle Chemnitz)
DESCRIPTION:MTP - Marketing zwischen Theorie und Praxis lädt euch herzlich zu unserem Infoabend ein! MTP stellt sich kurz vor\, die Videos der O-Phase werden präsentiert und die besten 3 prämiert. \nAuch für Verpflegung ist gesorgt.\nWir hoffen auf rege Teilnahme.
ORGANIZER:MAILTO:mmu@hrz.tu-chemnitz.de
UID:5312@www.tu-chemnitz.de
CREATED:20041013T181300Z
DTSTAMP:20210802T200534Z
END:VEVENT
END:VCALENDAR
