BEGIN:VCALENDAR
VERSION:2.0
PRODID:TU Chemnitz
METHOD:PUBLISH
X-WR-CALNAME:Veranstaltungen der TU Chemnitz
X-WR-TIMEZONE:Europe/Berlin
BEGIN:VEVENT
CLASS:PUBLIC
DTSTART;TZID="Europe/Berlin":20041026T200000
DTEND;TZID="Europe/Berlin":20041026T213000
LOCATION:Gemeindezentrum der Propstei\, Hohe Str. 1\, Kassberg\, gegenüber Kino "Metropol"
SUMMARY:Weltjugendtag 2005 in Köln (Kath. Studentengemeinde)
DESCRIPTION:Wir gewinnen Einblicke zu diesem großen Ereignis 2005 und erfahren etwas über die Arbeit des vorbereitenden Zentrums Chemnitz-Zwickau.\nRoman Poschmann
ORGANIZER:MAILTO:ester@hrz.tu-chemnitz.de
UID:5281@www.tu-chemnitz.de
CREATED:20041005T233500Z
DTSTAMP:20210802T200527Z
END:VEVENT
END:VCALENDAR
