BEGIN:VCALENDAR
VERSION:2.0
PRODID:TU Chemnitz
METHOD:PUBLISH
X-WR-CALNAME:Veranstaltungen der TU Chemnitz
X-WR-TIMEZONE:Europe/Berlin
BEGIN:VEVENT
CLASS:PUBLIC
DTSTART;TZID="Europe/Berlin":20041012T180000
DTEND;TZID="Europe/Berlin":20041012T220000
LOCATION:Gemeindezentrum der Propstei\, Hohe Str. 1\, Kassberg\, gegenüber Kino "Metropol"
SUMMARY:Neuen-Abend (Kath. Studentengemeinde)
DESCRIPTION:Wir heißen alle Neulinge herzlich willkommen und laden Euch ein\, die KSG kennenzulernen!\nKath. Studentengemeinde Chemnitz
ORGANIZER:MAILTO:ester@hrz.tu-chemnitz.de
UID:5279@www.tu-chemnitz.de
CREATED:20041005T232400Z
DTSTAMP:20210802T200533Z
END:VEVENT
END:VCALENDAR
