BEGIN:VCALENDAR
VERSION:2.0
PRODID:TU Chemnitz
METHOD:PUBLISH
X-WR-CALNAME:Veranstaltungen der TU Chemnitz
X-WR-TIMEZONE:Europe/Berlin
BEGIN:VEVENT
CLASS:PUBLIC
DTSTART;TZID="Europe/Berlin":20041116T171500
DTEND;TZID="Europe/Berlin":20041116T184500
LOCATION:Wilhelm-Raabe-Str. 43\, Chemnitz
SUMMARY:Psychologiekolloquium: Mädchen oder Junge? Der Einfluss biologischer\, sozialer und persönlich-keitsbezogener Faktoren auf das Geschlecht von Neugeborenen (Philosophische Fakultät\, Institut für Psychologie)
DESCRIPTION:Prof. Dr. Udo Rudolph\, TU Chemnitz\nProfessur für Differentielle Psychologie und Diagnostik\, 0371/531-6365
ORGANIZER:MAILTO:petra.fladerer@phil.tu-chemnitz.de
UID:5249@www.tu-chemnitz.de
CREATED:20040930T100800Z
DTSTAMP:20210802T200446Z
END:VEVENT
END:VCALENDAR
