BEGIN:VCALENDAR
VERSION:2.0
PRODID:TU Chemnitz
METHOD:PUBLISH
X-WR-CALNAME:Veranstaltungen der TU Chemnitz
X-WR-TIMEZONE:Europe/Berlin
BEGIN:VEVENT
CLASS:PUBLIC
DTSTART;TZID="Europe/Berlin":20041013T210000
DTEND;TZID="Europe/Berlin":20041014T030000
LOCATION:Reichenhainer Str. 55\, Chemnitz (Mensa)
SUMMARY:Semestereröffnungsparty (Fachschaftsrat Wirtschaftswissenschaften)
DESCRIPTION:DJ Double D und DJ Ron\n3 Euro Eintritt\nEinlass ab 21 Uhr
ORGANIZER:MAILTO:michael.meyer@fsrwiwi.com
UID:5237@www.tu-chemnitz.de
CREATED:20040921T235100Z
DTSTAMP:20210802T200526Z
END:VEVENT
END:VCALENDAR
