BEGIN:VCALENDAR
VERSION:2.0
PRODID:TU Chemnitz
METHOD:PUBLISH
X-WR-CALNAME:Veranstaltungen der TU Chemnitz
X-WR-TIMEZONE:Europe/Berlin
BEGIN:VEVENT
CLASS:PUBLIC
DTSTART;TZID="Europe/Berlin":20041123T100000
DTEND;TZID="Europe/Berlin":20041123T150000
LOCATION:Reichenhainer Str. 90\, Chemnitz (Zentr. Hörsaal- und Seminargebäude)
SUMMARY:Informationsseminar STUDIUM UND PRAKTIKUM IN FINNLAND (TU Chemnitz\, IUZ in Zusammenarbeit mit dem Finnland-Institut und der Finnischen Zentrale für Internationale Mobilität (CIMO))
DESCRIPTION:Informationsseminar für Studierende\, Graduierte und Mitarbeiter von Hochschulen sowie für alle anderen Interessenten - Finnland als Ort des Studiums und Praktikums für Nicht-Finnen?\nStudium in Finnland ab 10 Uhr\, Praktikum in Finnland ab 13 Uhr\nHerr Tuomas Leikkonen\, Finnland-Institut\nHerr Tuomas Leikkonen\, studium@finstitut.de\, Tel: 030 399 5294\, Frau Martina Lorenz\, martina.lorenz@iuz.tu-chemnitz.de
ORGANIZER:MAILTO:katja.gude@phil.tu-chemnitz.de
UID:5221@www.tu-chemnitz.de
CREATED:20040914T095900Z
DTSTAMP:20210802T200441Z
END:VEVENT
END:VCALENDAR
