BEGIN:VCALENDAR
VERSION:2.0
PRODID:TU Chemnitz
METHOD:PUBLISH
X-WR-CALNAME:Veranstaltungen der TU Chemnitz
X-WR-TIMEZONE:Europe/Berlin
BEGIN:VEVENT
CLASS:PUBLIC
DTSTART;TZID="Europe/Berlin":20041020T171500
DTEND;TZID="Europe/Berlin":20041020T184500
LOCATION:Reichenhainer Str. 90\, Chemnitz (Zentr. Hörsaal- und Seminargebäude)
SUMMARY:Physikalisches Kolloquium: Aberration corrected STEM: progress and prospects (TU Chemnitz\, Institut für Physik)
DESCRIPTION:Prof. Dr. Andrew Bleloch\, SuperSTEM at Daresbury Laboratory CCLRC\, Daresbury\, UK\nProf. Dr. Hans-Jürgen Hinneberg\, Tel. 531 3098
ORGANIZER:MAILTO:e.hiemann@physik.tu-chemnitz.de
UID:5207@www.tu-chemnitz.de
CREATED:20040906T161300Z
DTSTAMP:20210802T200535Z
END:VEVENT
END:VCALENDAR
