BEGIN:VCALENDAR
VERSION:2.0
PRODID:TU Chemnitz
METHOD:PUBLISH
X-WR-CALNAME:Veranstaltungen der TU Chemnitz
X-WR-TIMEZONE:Europe/Berlin
BEGIN:VEVENT
CLASS:PUBLIC
DTSTART;TZID="Europe/Berlin":20041116T113000
DTEND;TZID="Europe/Berlin":20041116T130000
LOCATION:Reichenhainer Str. 70\, Chemnitz (Rühlmann-Bau)
SUMMARY:Forschungsseminar des Institutes für Fertigungstechnik/Schweißtechnik (Fakultät für Maschinenbau\, Institut für Fertigungstechnik/Schweißtechnik\, Professur Fertigungslehre)
DESCRIPTION:Möglichkeiten zur Vernetzung fertigungstechnischer Kompetenzen (in Verbindung mit SFB 457)\nDI Jens Mehnert\, DI Ekkehard Zürn
ORGANIZER:MAILTO:B.Lieberwirth@mb2.tu-chemnitz.de
UID:5201@www.tu-chemnitz.de
CREATED:20040902T132800Z
DTSTAMP:20210802T200438Z
END:VEVENT
END:VCALENDAR
