BEGIN:VCALENDAR
VERSION:2.0
PRODID:TU Chemnitz
METHOD:PUBLISH
X-WR-CALNAME:Veranstaltungen der TU Chemnitz
X-WR-TIMEZONE:Europe/Berlin
BEGIN:VEVENT
CLASS:PUBLIC
DTSTART;TZID="Europe/Berlin":20041014T160000
DTEND;TZID="Europe/Berlin":20041014T180000
LOCATION:Str. der Nationen 62\, Chemnitz (Böttcher-Bau)
SUMMARY:Photochemische Kontrolle des Phasenverhaltens von Tensid- und Polymer-Systemen  (Fakultät für Naturwissenschaften\, Institut für Chemie gemeinsam mit dem Ortsverband Chemnitz der Gesellschaft Deutscher Chemiker)
DESCRIPTION:Prof. Dr. Thomas Wolff\, Technische Universität Dresden\, Institut für Physikalische Chemie und Elektrochemie\nProf. Dr. R. Holze\, fon: 0371 531 1509\, e-mail: rudolf.holze@chemie.tu-chemnitz.de
ORGANIZER:MAILTO:elke.rahm@chemie.tu-chemnitz.de
UID:5178@www.tu-chemnitz.de
CREATED:20040827T084800Z
DTSTAMP:20210802T200529Z
END:VEVENT
END:VCALENDAR
