BEGIN:VCALENDAR
VERSION:2.0
PRODID:TU Chemnitz
METHOD:PUBLISH
X-WR-CALNAME:Veranstaltungen der TU Chemnitz
X-WR-TIMEZONE:Europe/Berlin
BEGIN:VEVENT
CLASS:PUBLIC
DTSTART;TZID="Europe/Berlin":20041121T103000
DTEND;TZID="Europe/Berlin":20041121T120000
LOCATION:Reichenhainer Str. 90\, Chemnitz (Zentr. Hörsaal- und Seminargebäude)
SUMMARY:SonntagsUni: „Jugendkriminalität zwischen Realität und Mediendarstellung“ (Philosophische Fakultät\, Lernende Region)
DESCRIPTION:Robert Steinhäuser und das Massaker von Erfurt stehen stellvertretend für eine ganze Reihe spektakulärer Straftaten jugendlicher Täter. Lässt sich kriminelles Verhalten vorhersagen? Welche Wirksamkeit zeigt das Konzept der Abschreckung?\nHenry Stöss\, Mitarbeiter der Jugendgerichtshilfe im Amt für Jugend und Familie Chemnitz\nJana Voigt\, M.A.\, Tel.: 0371/ 531 4532\, E-Mail: jana.voigt@phil.tu-chemnitz.de
ORGANIZER:MAILTO:jana.voigt@phil.tu-chemnitz.de
UID:5167@www.tu-chemnitz.de
CREATED:20040819T170100Z
DTSTAMP:20210802T200438Z
END:VEVENT
END:VCALENDAR
