BEGIN:VCALENDAR
VERSION:2.0
PRODID:TU Chemnitz
METHOD:PUBLISH
X-WR-CALNAME:Veranstaltungen der TU Chemnitz
X-WR-TIMEZONE:Europe/Berlin
BEGIN:VEVENT
CLASS:PUBLIC
DTSTART;TZID="Europe/Berlin":20040926T103000
DTEND;TZID="Europe/Berlin":20040926T120000
LOCATION:Reichenhainer Str. 90\, Chemnitz (Zentr. Hörsaal- und Seminargebäude)
SUMMARY:SonntagsUni: "High sein\, frei sein\, jeder will dabei sein" (Philosophische Fakultät\, Professur Erwachsenenbildung u. betriebliche Weiterbildung im Rahmen d. Projektes Lernende Region)
DESCRIPTION:"High sein\, frei sein\, jeder will dabei sein:\nAlcopops\, Cannabis und andere Rauschmittel in Sachsen"\nUwe Wicha\, Leiter der "Alten Flugschule" - Therapeutische Einrichtung für Abhängigkeitskranke SIRIUS Sachsen e.V.\nJana Voigt\, M.A.\, Tel.: 0371/ 531 4532\, E-Mail: jana.voigt@phil.tu-chemnitz.de
ORGANIZER:MAILTO:jana.voigt@phil.tu-chemnitz.de
UID:5164@www.tu-chemnitz.de
CREATED:20040819T162500Z
DTSTAMP:20210802T200611Z
END:VEVENT
END:VCALENDAR
