BEGIN:VCALENDAR
VERSION:2.0
PRODID:TU Chemnitz
METHOD:PUBLISH
X-WR-CALNAME:Veranstaltungen der TU Chemnitz
X-WR-TIMEZONE:Europe/Berlin
BEGIN:VEVENT
CLASS:PUBLIC
DTSTART;TZID="Europe/Berlin":19990623T163000
DTEND;TZID="Europe/Berlin":19990623T180000
LOCATION:Uni-Teil 3: Reichenhainer Str. 70\, Chemnitz (Zentr. Hörsaal- und Seminargebäude)
SUMMARY:Physikalisches Kolloquium: "Selektive Bestimmung lokaler Strukturen in ungeordneten Systemen mit Röntgenspektroskopie\, Röntgen- und Neutronenbeugung" (Fakultät für Naturwissenschaften\, Institut für Physik)
DESCRIPTION:Prof. Dr. Helmut Bertagnolli (Univ. Stuttgart)\nProf. Hoyer (Tel. 5318208)
ORGANIZER:MAILTO:m.fleischer@physik.tu-chemnitz.de
UID:513@www.tu-chemnitz.de
CREATED:19990506T090900Z
DTSTAMP:20210802T203414Z
END:VEVENT
END:VCALENDAR
