BEGIN:VCALENDAR
VERSION:2.0
PRODID:TU Chemnitz
METHOD:PUBLISH
X-WR-CALNAME:Veranstaltungen der TU Chemnitz
X-WR-TIMEZONE:Europe/Berlin
BEGIN:VEVENT
CLASS:PUBLIC
DTSTART;TZID="Europe/Berlin":20040910T090000
DTEND;TZID="Europe/Berlin":20040911T170000
LOCATION:Messegelände Berlin\, Halle 3\, Stand H19
SUMMARY:Einstieg Abi Berlin - Messe für Ausbildung\, Studium und Beruf
DESCRIPTION:Am Gemeinschaftsstand der sächsischen Hochschulen "Studieren in Sachsen" (Halle 3\, Stand H19) informiert die Zentrale Studienberatung der TU Chemnitz Studieninteressenten über das Studium an der Chemnitzer Uni.\nHerr Bauer\, TU Chemnitz\, Zentrale Studienberatung
ORGANIZER:MAILTO:tobias.bauer@verwaltung.tu-chemnitz.de
UID:5126@www.tu-chemnitz.de
CREATED:20040811T092200Z
DTSTAMP:20210802T200601Z
END:VEVENT
END:VCALENDAR
