BEGIN:VCALENDAR
VERSION:2.0
PRODID:TU Chemnitz
METHOD:PUBLISH
X-WR-CALNAME:Veranstaltungen der TU Chemnitz
X-WR-TIMEZONE:Europe/Berlin
BEGIN:VEVENT
CLASS:PUBLIC
DTSTART;TZID="Europe/Berlin":19990616T163000
DTEND;TZID="Europe/Berlin":19990616T180000
LOCATION:Uni-Teil 3: Reichenhainer Str. 70\, Chemnitz (Zentr. Hörsaal- und Seminargebäude)
SUMMARY:Physikalisches Kollquium: "Quantum dots" (Fakultät für Naturwissenschaften\, Institut für Physik)
DESCRIPTION:Prof. Dr. Hans A. Weidenmüller (Univ. Heidelberg)\nProf. Schreiber (5313142)
ORGANIZER:MAILTO:m.fleischer@physik.tu-chemnitz.de
UID:512@www.tu-chemnitz.de
CREATED:19990506T090000Z
DTSTAMP:20210802T203410Z
END:VEVENT
END:VCALENDAR
