BEGIN:VCALENDAR
VERSION:2.0
PRODID:TU Chemnitz
METHOD:PUBLISH
X-WR-CALNAME:Veranstaltungen der TU Chemnitz
X-WR-TIMEZONE:Europe/Berlin
BEGIN:VEVENT
CLASS:PUBLIC
DTSTART;TZID="Europe/Berlin":20040706T200000
DTEND;TZID="Europe/Berlin":20040706T235900
LOCATION:Reichenhainer Str. 55\, Chemnitz (Mensa)
SUMMARY:TaC: Sex and the City Kneipe (TaC)
DESCRIPTION:
ORGANIZER:MAILTO:made@hrz.tu-chemnitz.de
UID:5109@www.tu-chemnitz.de
CREATED:20040730T144400Z
DTSTAMP:20210802T200725Z
END:VEVENT
END:VCALENDAR
