BEGIN:VCALENDAR
VERSION:2.0
PRODID:TU Chemnitz
METHOD:PUBLISH
X-WR-CALNAME:Veranstaltungen der TU Chemnitz
X-WR-TIMEZONE:Europe/Berlin
BEGIN:VEVENT
CLASS:PUBLIC
DTSTART;TZID="Europe/Berlin":20041006T100000
DTEND;TZID="Europe/Berlin":20041006T140000
LOCATION:Reichenhainer Str. 90\, Chemnitz (Zentr. Hörsaal- und Seminargebäude)
SUMMARY:O-Phase Philosophische Fakultät (Philosophische Fakultät)
DESCRIPTION:\nDie Infoveranstaltung für alle neuen Studenten der Phil Fakultät \n- mit Infos zu allen Studienfächern \nund Antworten auf eure Fragen rund ums Studium und   Chemnitz!\nFSR Phil\nfsrphil@tu-chemnitz.de
ORGANIZER:MAILTO:fsrphil@tu-chemnitz.de
UID:5103@www.tu-chemnitz.de
CREATED:20040728T223700Z
DTSTAMP:20210802T200527Z
END:VEVENT
END:VCALENDAR
