BEGIN:VCALENDAR
VERSION:2.0
PRODID:TU Chemnitz
METHOD:PUBLISH
X-WR-CALNAME:Veranstaltungen der TU Chemnitz
X-WR-TIMEZONE:Europe/Berlin
BEGIN:VEVENT
CLASS:PUBLIC
DTSTART;TZID="Europe/Berlin":20040728T213000
DTEND;VALUE=DATE:20040729
LOCATION:Reichenhainer Str.37
SUMMARY:Mittwochsdisco im PEB (PEB Studentenkeller)
DESCRIPTION:Habt ihr die Schnauze voll vom Lernen\, dann kommt zum Entspannen heut ab 21.30 Uhr ins PEB\, wo DJ Culture für gute Laune sorgen möchte. Wie immer gibts leckere Cocktails u.a. zu studentenfreundlichen Preisen.\nPEB Studentenkeller
ORGANIZER:MAILTO:kkru@mathematik.tu-chemnitz.de
UID:5102@www.tu-chemnitz.de
CREATED:20040728T151000Z
DTSTAMP:20210802T200722Z
END:VEVENT
END:VCALENDAR
