BEGIN:VCALENDAR
VERSION:2.0
PRODID:TU Chemnitz
METHOD:PUBLISH
X-WR-CALNAME:Veranstaltungen der TU Chemnitz
X-WR-TIMEZONE:Europe/Berlin
BEGIN:VEVENT
CLASS:PUBLIC
DTSTART;VALUE=DATE:20040728
DTEND;TZID="Europe/Berlin":20040728T235900
LOCATION:http://www.tu-chemnitz.de/phil/leo
SUMMARY:Neue Ausgabe von LEO (LEO-Redaktion)
DESCRIPTION:Eine neue Ausgabe der studentischen Zeitschrift "Lingua et opinio" (LEO) mit 13 Beiträgen ist online.\nleo@tu-chemnitz.de
ORGANIZER:MAILTO:mkl@hrz.tu-chemnitz.de
UID:5100@www.tu-chemnitz.de
CREATED:20040728T090800Z
DTSTAMP:20210802T200719Z
END:VEVENT
END:VCALENDAR
