BEGIN:VCALENDAR
VERSION:2.0
PRODID:TU Chemnitz
METHOD:PUBLISH
X-WR-CALNAME:Veranstaltungen der TU Chemnitz
X-WR-TIMEZONE:Europe/Berlin
BEGIN:VEVENT
CLASS:PUBLIC
DTSTART;TZID="Europe/Berlin":20040721T160000
DTEND;TZID="Europe/Berlin":20040721T180000
LOCATION:Reichenhainer Str. 55\, Chemnitz (Mensa)
SUMMARY:ab 16:00 Uhr Tour de France auf Großleinwand im TaC
DESCRIPTION:Sieg für Ulle.....
ORGANIZER:MAILTO:made@hrz.tu-chemnitz.de
UID:5096@www.tu-chemnitz.de
CREATED:20040721T115800Z
DTSTAMP:20210802T200725Z
END:VEVENT
END:VCALENDAR
