BEGIN:VCALENDAR
VERSION:2.0
PRODID:TU Chemnitz
METHOD:PUBLISH
X-WR-CALNAME:Veranstaltungen der TU Chemnitz
X-WR-TIMEZONE:Europe/Berlin
BEGIN:VEVENT
CLASS:PUBLIC
DTSTART;TZID="Europe/Berlin":20040720T183000
DTEND;TZID="Europe/Berlin":20040720T220000
LOCATION:Vettersstr. 70/72\, Chemnitz (Studentenwohnheim)
SUMMARY:Europa und Amerika im Zeichen einer weltpolitischen Neuordnung
DESCRIPTION:Aufgrund der bevorstehenden US-Präsidentschaftswahlen und der globalen Sicherheitslage möchten wir eine Diskussion über die Vormachtstellung der USA als "Weltpolizist" unter Berücksichtigung der politische Kraft Europas/Deutschlands anregen.\nmoderierte Diskussionsrunde
ORGANIZER:MAILTO:matthias.kupfer@informatik.tu-chemnitz.de
UID:5092@www.tu-chemnitz.de
CREATED:20040719T134900Z
DTSTAMP:20210802T200720Z
END:VEVENT
END:VCALENDAR
