BEGIN:VCALENDAR
VERSION:2.0
PRODID:TU Chemnitz
METHOD:PUBLISH
X-WR-CALNAME:Veranstaltungen der TU Chemnitz
X-WR-TIMEZONE:Europe/Berlin
BEGIN:VEVENT
CLASS:PUBLIC
DTSTART;TZID="Europe/Berlin":19990706T170000
DTEND;TZID="Europe/Berlin":19990706T183000
LOCATION:Uni-Teil 9: Wilhelm-Raabe-Str. 43\, Chemnitz
SUMMARY:Forschungskolloquium Psychologie: "Benutzerorientierte Präsentation von Information im Internet." (Philosophische Fakultät\, Allgemeine Psychologie und Arbeitspsychologie)
DESCRIPTION:Achtung: Neuer Titel des Vortrags "Vergleich von Wissenserwerb und Navigationsstrategien bei linearen Texten und Hypertexten."\nDipl.-Psych. Jacqueline Waniek und Dipl.-Psych. Anja Naumann\, TU Chemnitz\nDipl.-Psych. Martin Baumann\, Tel. 531-6380 E-mail: martin.baumann@phil.tu-chemnitz.de
ORGANIZER:MAILTO:cuh@hrz.tu-chemnitz.de
UID:506@www.tu-chemnitz.de
CREATED:19990504T144000Z
DTSTAMP:20210802T203402Z
END:VEVENT
END:VCALENDAR
