BEGIN:VCALENDAR
VERSION:2.0
PRODID:TU Chemnitz
METHOD:PUBLISH
X-WR-CALNAME:Veranstaltungen der TU Chemnitz
X-WR-TIMEZONE:Europe/Berlin
BEGIN:VEVENT
CLASS:PUBLIC
DTSTART;TZID="Europe/Berlin":20040713T193000
DTEND;TZID="Europe/Berlin":20040713T210000
LOCATION:Wilhelm-Raabe-Str. 43\, Chemnitz
SUMMARY:Reihe Lichtspiel: Taxi Driver von Martin Scorsese (USA\, 1976) (Philosophische Fakultät)
DESCRIPTION:Mit einer kurzen Einführung zum Regisseur und zum Film.\nEintritt frei!
ORGANIZER:MAILTO:martin.baumann@phil.tu-chemnitz.de
UID:5058@www.tu-chemnitz.de
CREATED:20040706T091600Z
DTSTAMP:20210802T200724Z
END:VEVENT
END:VCALENDAR
