BEGIN:VCALENDAR
VERSION:2.0
PRODID:TU Chemnitz
METHOD:PUBLISH
X-WR-CALNAME:Veranstaltungen der TU Chemnitz
X-WR-TIMEZONE:Europe/Berlin
BEGIN:VEVENT
CLASS:PUBLIC
DTSTART;TZID="Europe/Berlin":20040712T091500
DTEND;TZID="Europe/Berlin":20040712T104500
LOCATION:Reichenhainer Str. 90\, Chemnitz (Zentr. Hörsaal- und Seminargebäude)
SUMMARY:Carl Zuckmayer - ein Mainzer Autor (TU Chemnitz\, Deutsche Literatur des 20 Jahrhunderts/Komparatistik)
DESCRIPTION:Der angekündigte Vortrag von Herrn Dr. Keim fällt wegen Erkrankung des Referenten aus.\nHans Dietrich Lindstedt (Freier Deutscher Autorenverband)
ORGANIZER:MAILTO:Elke.Mehnert@phil.tu-chemnitz.de
UID:5052@www.tu-chemnitz.de
CREATED:20040705T154700Z
DTSTAMP:20210802T200724Z
END:VEVENT
END:VCALENDAR
