BEGIN:VCALENDAR
VERSION:2.0
PRODID:TU Chemnitz
METHOD:PUBLISH
X-WR-CALNAME:Veranstaltungen der TU Chemnitz
X-WR-TIMEZONE:Europe/Berlin
BEGIN:VEVENT
CLASS:PUBLIC
DTSTART;TZID="Europe/Berlin":20040713T210000
DTEND;VALUE=DATE:20040713
LOCATION:Vettersstr. 70/72\, Chemnitz (Studentenwohnheim)
SUMMARY:>>>Black Area FPM<<< (FPM-Club)
DESCRIPTION:Finest Black Music and CocktailsDero
ORGANIZER:MAILTO:hoga@hrz.tu-chemnitz.de
UID:5045@www.tu-chemnitz.de
CREATED:20040705T142600Z
DTSTAMP:20210802T200724Z
END:VEVENT
END:VCALENDAR
