BEGIN:VCALENDAR
VERSION:2.0
PRODID:TU Chemnitz
METHOD:PUBLISH
X-WR-CALNAME:Veranstaltungen der TU Chemnitz
X-WR-TIMEZONE:Europe/Berlin
BEGIN:VEVENT
CLASS:PUBLIC
DTSTART;TZID="Europe/Berlin":20040625T210000
DTEND;TZID="Europe/Berlin":20040625T235900
LOCATION:Bunker-Club * Chemnitz * Rosenplatz (gleich am Campus)
SUMMARY:Live from Stockholm "Rock City": THE SEWERGROOVES
DESCRIPTION:Aus Stockholm "Rock City"\, hier sind THE SEWERGROOVES!\nDieser skandinavische Vierer klingt\, auch aufgrund personeller Überschneidungen\, ähnlich wie die HELLACOPTERS.\nZwei lokale Bands als Support: IGUANA und SPILLED STOUT.
ORGANIZER:MAILTO:joerg.schneider@mathematik.tu-chemnitz.de
UID:5010@www.tu-chemnitz.de
CREATED:20040625T170500Z
DTSTAMP:20210802T200810Z
END:VEVENT
END:VCALENDAR
