BEGIN:VCALENDAR
VERSION:2.0
PRODID:TU Chemnitz
METHOD:PUBLISH
X-WR-CALNAME:Veranstaltungen der TU Chemnitz
X-WR-TIMEZONE:Europe/Berlin
BEGIN:VEVENT
CLASS:PUBLIC
DTSTART;TZID="Europe/Berlin":20000118T133000
DTEND;TZID="Europe/Berlin":20000118T210000
LOCATION:Uni-Teil 3: Reichenhainer Str. 70\, Chemnitz (Zentr. Hörsaal- und Seminargebäude)
SUMMARY:DIES ACADEMICUS - Ein bunter Mix aus Wissenschaft und Kultur (Technische Universität Chemnitz)
DESCRIPTION:Der besondere Tag - Ganz Chemnitz trifft sich auf dem Campus:\nWissenschaftliche Vorträge\, Ausstellungen\, Präsentationen\nvon Projekten\, Jazz im Foyer\, Schauexperimente\, \nLiteratur live\, Kulinarisches ...\nMario Steinebach\, Tel. 0371/531-1424
ORGANIZER:MAILTO:mstein@hrz.tu-chemnitz.de
UID:501@www.tu-chemnitz.de
CREATED:19990503T183800Z
DTSTAMP:20210802T203231Z
END:VEVENT
END:VCALENDAR
