BEGIN:VCALENDAR
VERSION:2.0
PRODID:TU Chemnitz
METHOD:PUBLISH
X-WR-CALNAME:Veranstaltungen der TU Chemnitz
X-WR-TIMEZONE:Europe/Berlin
BEGIN:VEVENT
CLASS:PUBLIC
DTSTART;TZID="Europe/Berlin":20040629T200000
DTEND;TZID="Europe/Berlin":20040629T230000
LOCATION:Reichenhainer Str. 39\, Chemnitz
SUMMARY:Powi Grillen (Powistudenten)
DESCRIPTION:\nHeute abend ist es soweit: der Grillabend der besonderen Art -  DAS große POWIGRILLEN mit unseren Dozenten!\nAb 20 Uhr laden wir euch ein zum gemeinsamen Rosterwenden  auf der Wiese vor der Rh 39/41!\nExtra: Live Musik!  \n\nSeid gespannt und kommt vorbei!
ORGANIZER:MAILTO:gesh@hrz.tu-chemnitz.de
UID:5009@www.tu-chemnitz.de
CREATED:20040625T143700Z
DTSTAMP:20210802T200807Z
END:VEVENT
END:VCALENDAR
