BEGIN:VCALENDAR
VERSION:2.0
PRODID:TU Chemnitz
METHOD:PUBLISH
X-WR-CALNAME:Veranstaltungen der TU Chemnitz
X-WR-TIMEZONE:Europe/Berlin
BEGIN:VEVENT
CLASS:PUBLIC
DTSTART;TZID="Europe/Berlin":20040629T210000
DTEND;TZID="Europe/Berlin":20040630T020000
LOCATION:Vettersstr. 64/66\, Chemnitz (Studentenwohnheim)
SUMMARY:Cocktailabend in der BitBoutique
DESCRIPTION:Beginn: 21.00 Uhr\nDoppeldecker bis 22.00 Uhr
ORGANIZER:MAILTO:zihe@hrz.tu-chemnitz.de
UID:4994@www.tu-chemnitz.de
CREATED:20040623T183700Z
DTSTAMP:20210802T200752Z
END:VEVENT
END:VCALENDAR
