BEGIN:VCALENDAR
VERSION:2.0
PRODID:TU Chemnitz
METHOD:PUBLISH
X-WR-CALNAME:Veranstaltungen der TU Chemnitz
X-WR-TIMEZONE:Europe/Berlin
BEGIN:VEVENT
CLASS:PUBLIC
DTSTART;TZID="Europe/Berlin":20040701T100000
DTEND;TZID="Europe/Berlin":20040701T150000
LOCATION:Reichenhainer Str. 55\, Chemnitz (Mensa)
SUMMARY:1. Tag der Gesundheit  (Institut für Sportwissenschaft)
DESCRIPTION:Wissenswertes zur ganzheitlichen Gesundheit: Bewegung\,Ernährung\, Entspannung und Bioinformation\nInfostände und Präsentationen\nVorstellung von Präventionsmaßnahmen \nPosterausstellung zu grundlegenden Problemen\, Quiz\nekkehard.bleidistel@hrz.tu-chmenitz.de
ORGANIZER:MAILTO:anke.stefaniak@s2000.tu-chemnitz.de
UID:4987@www.tu-chemnitz.de
CREATED:20040621T190900Z
DTSTAMP:20210802T200726Z
END:VEVENT
END:VCALENDAR
