BEGIN:VCALENDAR
VERSION:2.0
PRODID:TU Chemnitz
METHOD:PUBLISH
X-WR-CALNAME:Veranstaltungen der TU Chemnitz
X-WR-TIMEZONE:Europe/Berlin
BEGIN:VEVENT
CLASS:PUBLIC
DTSTART;TZID="Europe/Berlin":20040626T200000
DTEND;TZID="Europe/Berlin":20040626T235900
LOCATION:Vettersstr. 64/66\, Chemnitz (Studentenwohnheim)
SUMMARY:EM live in der BitBoutique
DESCRIPTION:Das dritte Viertalfinale live\, mit Beamer und Leinwand!!
ORGANIZER:MAILTO:zihe@hrz.tu-chemnitz.de
UID:4955@www.tu-chemnitz.de
CREATED:20040614T162700Z
DTSTAMP:20210802T200810Z
END:VEVENT
END:VCALENDAR
