BEGIN:VCALENDAR
VERSION:2.0
PRODID:TU Chemnitz
METHOD:PUBLISH
X-WR-CALNAME:Veranstaltungen der TU Chemnitz
X-WR-TIMEZONE:Europe/Berlin
BEGIN:VEVENT
CLASS:PUBLIC
DTSTART;TZID="Europe/Berlin":20040611T110000
DTEND;TZID="Europe/Berlin":20040611T200000
LOCATION:Reichenhainer Str. 55\, Chemnitz (Mensa)
SUMMARY:TaC: Fußball-EM-Tippspiel letzte Chance (TaC & StuWe)
DESCRIPTION:....wer möchte sich noch die Chance erhalten\, als bester EM-Tipper \neinen DVD - Player zu gewinnen....und vieles mehr....Zettel liegen\nin der Mensa aus !!!
ORGANIZER:MAILTO:made@hrz.tu-chemnitz.de
UID:4926@www.tu-chemnitz.de
CREATED:20040611T090500Z
DTSTAMP:20210802T200753Z
END:VEVENT
END:VCALENDAR
