BEGIN:VCALENDAR
VERSION:2.0
PRODID:TU Chemnitz
METHOD:PUBLISH
X-WR-CALNAME:Veranstaltungen der TU Chemnitz
X-WR-TIMEZONE:Europe/Berlin
BEGIN:VEVENT
CLASS:PUBLIC
DTSTART;TZID="Europe/Berlin":20040609T200000
DTEND;TZID="Europe/Berlin":20040609T235900
LOCATION:Reichenhainer Str. 55\, Chemnitz (Mensa)
SUMMARY:Mensavorplatz: Einzelkickermeisterschaft & Biergarten (TaC)
DESCRIPTION:Max hat endlich den Titel im Doppel....aber im Einzel steht noch offen wer \nCampusmeister wird !!...dazu Biergarten mit Special: Roster&Bier 2\,50 EUR !!
ORGANIZER:MAILTO:made@hrz.tu-chemnitz.de
UID:4904@www.tu-chemnitz.de
CREATED:20040607T112600Z
DTSTAMP:20210802T200811Z
END:VEVENT
END:VCALENDAR
