BEGIN:VCALENDAR
VERSION:2.0
PRODID:TU Chemnitz
METHOD:PUBLISH
X-WR-CALNAME:Veranstaltungen der TU Chemnitz
X-WR-TIMEZONE:Europe/Berlin
BEGIN:VEVENT
CLASS:PUBLIC
DTSTART;TZID="Europe/Berlin":20040608T200000
DTEND;TZID="Europe/Berlin":20040608T200000
LOCATION:Reichenhainer Str. 55\, Chemnitz (Mensa)
SUMMARY:TaC- Sex and the City Kneipe (TaC)
DESCRIPTION:Wie immer am Dienstag....Dooley´s Special kauf 2 und \nbekomm ein Glas dazu\, Bier zu 99 Cent\nund Billard und Dart kostenfrei....und leckere Cocktails zum Sonderpreis
ORGANIZER:MAILTO:made@hrz.tu-chemnitz.de
UID:4903@www.tu-chemnitz.de
CREATED:20040607T110400Z
DTSTAMP:20210802T200810Z
END:VEVENT
END:VCALENDAR
