BEGIN:VCALENDAR
VERSION:2.0
PRODID:TU Chemnitz
METHOD:PUBLISH
X-WR-CALNAME:Veranstaltungen der TU Chemnitz
X-WR-TIMEZONE:Europe/Berlin
BEGIN:VEVENT
CLASS:PUBLIC
DTSTART;TZID="Europe/Berlin":19980924T130000
DTEND;TZID="Europe/Berlin":19980925T120000
LOCATION:Uni-Teil 7: Erfenschlager Str. 73\, Chemnitz
SUMMARY:"1.Werkstofftechnisches Kolloquium" in Chemnitz  (Fakultät für Maschinenbau und Verfahrenstechnik\, Lehrstuhl für Verbundwerkstoffe)
DESCRIPTION:Das Werkstoffkolloquium soll einen Überblick über neueste Erkenntnisse der Themen Verbundwerkstoffe\,\nOberflächentechnik und Verbindungstechnik vermitteln. Gleichzeitig wird über den Lehrstuhl und dessen\nAktivitäten in Lehre und Forschung informiert.\nbernhard.wielage@wsk.tu-chemnitz.de\, Frau Fischer Tel. 0371/531-6171\, Fax 0371/531-6179
ORGANIZER:MAILTO:fri@hrz.tu-chemnitz.de
UID:49@www.tu-chemnitz.de
CREATED:19980805T165900Z
DTSTAMP:20210802T203611Z
END:VEVENT
END:VCALENDAR
