BEGIN:VCALENDAR
VERSION:2.0
PRODID:TU Chemnitz
METHOD:PUBLISH
X-WR-CALNAME:Veranstaltungen der TU Chemnitz
X-WR-TIMEZONE:Europe/Berlin
BEGIN:VEVENT
CLASS:PUBLIC
DTSTART;TZID="Europe/Berlin":20040604T114500
DTEND;TZID="Europe/Berlin":20040604T121500
LOCATION:Internet
SUMMARY:LEO beim JUMP-Teamspiel: 0137-1011003 (TU Chemnitz)
DESCRIPTION:Die Nummer fürs Telefon-Voting steht jetzt fest:\n0137- 10 11 003 (Ortstarif!!!)\nBitte einmal oder öfter anrufen! \noder ueber www.jumpradio.de fuer uns stimmen! \nWir sind das Donnerstags-Team...\n\nDanke\, die LEO-Redaktion.
ORGANIZER:MAILTO:ruso@hrz.tu-chemnitz.de
UID:4895@www.tu-chemnitz.de
CREATED:20040604T114700Z
DTSTAMP:20210802T200801Z
END:VEVENT
END:VCALENDAR
