BEGIN:VCALENDAR
VERSION:2.0
PRODID:TU Chemnitz
METHOD:PUBLISH
X-WR-CALNAME:Veranstaltungen der TU Chemnitz
X-WR-TIMEZONE:Europe/Berlin
BEGIN:VEVENT
CLASS:PUBLIC
DTSTART;TZID="Europe/Berlin":20040604T164500
DTEND;TZID="Europe/Berlin":20040604T235900
LOCATION:Renaissance Hotel Chemnitz\, Salzstrasse 56\, 09112 Chemnitz
SUMMARY:KONSUM AUF RUSSISCH - wie internationale Handelskonzerne den russischen Markt erschliessen (DIALOG.eV (Chemnitz))
DESCRIPTION:Referenten:\n* Holger Schatz\, Projektmanager Mawy GmbH\n* Gerhard Eggert\, Deputy General Director IKEA Russia\n* PD Dr. Kerstin Pezoldt\, BWL/Marketing an der TU Ilmenau\n* Matthias Fink\, Vertrieb Mittel- und Osteuropa Quelle AG\n0371-2733891 oder steve.beyer@dialog-ev.org
ORGANIZER:MAILTO:alh@hrz.tu-chemnitz.de
UID:4890@www.tu-chemnitz.de
CREATED:20040603T112800Z
DTSTAMP:20210802T200808Z
END:VEVENT
END:VCALENDAR
