BEGIN:VCALENDAR
VERSION:2.0
PRODID:TU Chemnitz
METHOD:PUBLISH
X-WR-CALNAME:Veranstaltungen der TU Chemnitz
X-WR-TIMEZONE:Europe/Berlin
BEGIN:VEVENT
CLASS:PUBLIC
DTSTART;TZID="Europe/Berlin":20040620T170000
DTEND;TZID="Europe/Berlin":20040621T020000
LOCATION:Kompass\, Thüringer Weg 3
SUMMARY:Fête de la Musique - mit der Uni BigBand (Club der Kulturen)
DESCRIPTION:Kommt den tollen Auftritt der Uni Bigband und den anderer Campus-Künstlern im CdK erleben. Oder spielt einfach eure eigene Musik...\nClub der Kulturen\nkulturen@tu-chemnitz.de
ORGANIZER:MAILTO:vasas@hrz.tu-chemnitz.de
UID:4888@www.tu-chemnitz.de
CREATED:20040602T191200Z
DTSTAMP:20210802T200757Z
END:VEVENT
END:VCALENDAR
