BEGIN:VCALENDAR
VERSION:2.0
PRODID:TU Chemnitz
METHOD:PUBLISH
X-WR-CALNAME:Veranstaltungen der TU Chemnitz
X-WR-TIMEZONE:Europe/Berlin
BEGIN:VEVENT
CLASS:PUBLIC
DTSTART;TZID="Europe/Berlin":20040607T210000
DTEND;TZID="Europe/Berlin":20040607T235900
LOCATION:Reichenhainer Str. 55\, Chemnitz (Mensa)
SUMMARY:Rohrstock Kabarett Abend (Philosophische Fakultät\, FSR der Philosophischen Fakultät)
DESCRIPTION:Das bekannte Kabarett "Rohrstock" aus Rostock - für Studenten von Studenten ist wieder mal bei uns an der Uni zu Gast. Mit einem ganz neuen Programm garantieren sie wieder einen unvergesslichen Abend.\nRohrstock\nKarten gibt es an der Abendkasse ab 20 Uhr
ORGANIZER:MAILTO:hojan@hrz.tu-chemnitz.de
UID:4865@www.tu-chemnitz.de
CREATED:20040527T142000Z
DTSTAMP:20210802T200804Z
END:VEVENT
END:VCALENDAR
