BEGIN:VCALENDAR
VERSION:2.0
PRODID:TU Chemnitz
METHOD:PUBLISH
X-WR-CALNAME:Veranstaltungen der TU Chemnitz
X-WR-TIMEZONE:Europe/Berlin
BEGIN:VEVENT
CLASS:PUBLIC
DTSTART;TZID="Europe/Berlin":20040604T200000
DTEND;TZID="Europe/Berlin":20040605T040000
LOCATION:Club der Kulturen (Kompass)
SUMMARY:Kolumbianische Nacht (Spanisch Club)
DESCRIPTION:Wir laden Euch zu einer Präsentation über Kolumbien und zu kolumbianischen Wein aus Kaffee ein. Natürlich feiern wir danach mit viel kombianischer Musik .. hasta pronto\n\n\nSpanisch Club
ORGANIZER:MAILTO:sisaw@hrz.tu-chemnitz.de
UID:4861@www.tu-chemnitz.de
CREATED:20040526T145100Z
DTSTAMP:20210802T200811Z
END:VEVENT
END:VCALENDAR
