BEGIN:VCALENDAR
VERSION:2.0
PRODID:TU Chemnitz
METHOD:PUBLISH
X-WR-CALNAME:Veranstaltungen der TU Chemnitz
X-WR-TIMEZONE:Europe/Berlin
BEGIN:VEVENT
CLASS:PUBLIC
DTSTART;TZID="Europe/Berlin":20040701T140000
DTEND;TZID="Europe/Berlin":20040702T140000
LOCATION:Renaissance Chemnitz Hotel\, Salzstraße 56\, 09113 Chemnitz
SUMMARY:Fachtagung "Zentralität in Raumforschung und Planungspraxis" (Philosophische Fakultät\, Professur für Sozial- und Wirtschaftsgeographie und Professur für Regionalforschung und Sozialplanung)
DESCRIPTION:Prof. Dr. Peter Jurczek; 0371 / 531 4911; peter.jurczek@phil.tu-chemnitz.de
ORGANIZER:MAILTO:clab@hrz.tu-chemnitz.de
UID:4855@www.tu-chemnitz.de
CREATED:20040525T111200Z
DTSTAMP:20210802T200722Z
END:VEVENT
END:VCALENDAR
