BEGIN:VCALENDAR
VERSION:2.0
PRODID:TU Chemnitz
METHOD:PUBLISH
X-WR-CALNAME:Veranstaltungen der TU Chemnitz
X-WR-TIMEZONE:Europe/Berlin
BEGIN:VEVENT
CLASS:PUBLIC
DTSTART;TZID="Europe/Berlin":20040526T210000
DTEND;TZID="Europe/Berlin":20040526T210000
LOCATION:Kompass
SUMMARY:[Film zum Campusfest] Sie haben Knut! (Filmclub "mittendrin")
DESCRIPTION:Auch diesmal gibts Mensaparty-Kino im Kompass - besonders für alle\, denen Leinwandfußballbilder zu wirr sind.\nEin Film über Liebe und andere vergessene Ideale der 80er\, der Zeit selbst gestrickter Pullover\, politischer Parolen und offener Beziehungen.
ORGANIZER:MAILTO:schneid@hrz.tu-chemnitz.de
UID:4850@www.tu-chemnitz.de
CREATED:20040524T140500Z
DTSTAMP:20210802T200903Z
END:VEVENT
END:VCALENDAR
