BEGIN:VCALENDAR
VERSION:2.0
PRODID:TU Chemnitz
METHOD:PUBLISH
X-WR-CALNAME:Veranstaltungen der TU Chemnitz
X-WR-TIMEZONE:Europe/Berlin
BEGIN:VEVENT
CLASS:PUBLIC
DTSTART;TZID="Europe/Berlin":20040622T130000
DTEND;TZID="Europe/Berlin":20040622T160000
LOCATION:Agentur für Arbeit Zwickau\, BIZ\, Leipziger Straße 176\, 08058 Zwickau
SUMMARY:Tag der Alternativen (Agentur für Arbeit Zwickau\, Berufsinformationszentrum)
DESCRIPTION:Die Zentrale Studienberatung informiert im Rahmen des Tages der Alternativen unentschlossene Gymnasiasten über ein Studium an der Chemnitzer Uni.\nHerr Bauer\, TU Chemnitz\, Zentrale Studienberatung
ORGANIZER:MAILTO:bato@hrz.tu-chemnitz.de
UID:4849@www.tu-chemnitz.de
CREATED:20040524T090700Z
DTSTAMP:20210802T200758Z
END:VEVENT
END:VCALENDAR
