BEGIN:VCALENDAR
VERSION:2.0
PRODID:TU Chemnitz
METHOD:PUBLISH
X-WR-CALNAME:Veranstaltungen der TU Chemnitz
X-WR-TIMEZONE:Europe/Berlin
BEGIN:VEVENT
CLASS:PUBLIC
DTSTART;TZID="Europe/Berlin":20040521T200000
DTEND;TZID="Europe/Berlin":20040522T020000
LOCATION:Thüringer Weg 3\, alte Mensa
SUMMARY:Neueröffnung des russisch Clubs (Club der Kulturen)
DESCRIPTION:Russisch Club macht wieder auf! Macht es euch gemütlich: wir sprechen heute über Märchen\, mit Tee und russischen Süßigkeiten. Wie bei Babuschka... Danach - Disco!
ORGANIZER:MAILTO:vni@hrz.tu-chemnitz.de
UID:4836@www.tu-chemnitz.de
CREATED:20040519T222300Z
DTSTAMP:20210802T200901Z
END:VEVENT
END:VCALENDAR
