BEGIN:VCALENDAR
VERSION:2.0
PRODID:TU Chemnitz
METHOD:PUBLISH
X-WR-CALNAME:Veranstaltungen der TU Chemnitz
X-WR-TIMEZONE:Europe/Berlin
BEGIN:VEVENT
CLASS:PUBLIC
DTSTART;TZID="Europe/Berlin":20040709T200000
DTEND;TZID="Europe/Berlin":20040709T230000
LOCATION:Club der Kulturen\, Thüringer Weg
SUMMARY:'Die spinnen die Swahili!' : Zur Aneignung von Asterix in einem tansanischen Comic (Club der Kulturen)
DESCRIPTION:Veranstaltung im Rahmen der 'Afrika in Chemnitz 2004' Veranstaltungsreihe. Jigal Beez stellt die tansanische Adaption des bekannten französischen Comics 'Asterix und Obelix' vor.\nJigal Beez\, Bayreuth
ORGANIZER:MAILTO:annesch@hrz.tu-chemnitz.de
UID:4830@www.tu-chemnitz.de
CREATED:20040519T144900Z
DTSTAMP:20210802T200725Z
END:VEVENT
END:VCALENDAR
